BEGIN:VCALENDAR
VERSION:2.0
PRODID:-//Pharmaceutical Industry Association of Puerto Rico - ECPv6.15.19//NONSGML v1.0//EN
CALSCALE:GREGORIAN
METHOD:PUBLISH
X-WR-CALNAME:Pharmaceutical Industry Association of Puerto Rico
X-ORIGINAL-URL:https://piapr.org
X-WR-CALDESC:Events for Pharmaceutical Industry Association of Puerto Rico
REFRESH-INTERVAL;VALUE=DURATION:PT1H
X-Robots-Tag:noindex
X-PUBLISHED-TTL:PT1H
BEGIN:VTIMEZONE
TZID:America/Halifax
BEGIN:DAYLIGHT
TZOFFSETFROM:-0400
TZOFFSETTO:-0300
TZNAME:ADT
DTSTART:20240310T060000
END:DAYLIGHT
BEGIN:STANDARD
TZOFFSETFROM:-0300
TZOFFSETTO:-0400
TZNAME:AST
DTSTART:20241103T050000
END:STANDARD
BEGIN:DAYLIGHT
TZOFFSETFROM:-0400
TZOFFSETTO:-0300
TZNAME:ADT
DTSTART:20250309T060000
END:DAYLIGHT
BEGIN:STANDARD
TZOFFSETFROM:-0300
TZOFFSETTO:-0400
TZNAME:AST
DTSTART:20251102T050000
END:STANDARD
BEGIN:DAYLIGHT
TZOFFSETFROM:-0400
TZOFFSETTO:-0300
TZNAME:ADT
DTSTART:20260308T060000
END:DAYLIGHT
BEGIN:STANDARD
TZOFFSETFROM:-0300
TZOFFSETTO:-0400
TZNAME:AST
DTSTART:20261101T050000
END:STANDARD
END:VTIMEZONE
BEGIN:VEVENT
DTSTART;TZID=America/Halifax:20250926T080000
DTEND;TZID=America/Halifax:20250926T170000
DTSTAMP:20260425T120359
CREATED:20250914T174535Z
LAST-MODIFIED:20250914T174646Z
UID:4336-1758873600-1758906000@piapr.org
SUMMARY:Leadership & Innovation Summit
DESCRIPTION:Disruption drives progress. \nThe Pharmaceutical Industry Association of Puerto Rico (PIA) invites you to the Leadership & Innovation Summit. In this bold\, forward-thinking event\, ideas spark action. \n🗓️ Sept 26\, 2025 \n📍San Juan Marriott Resort & Stellaris Casino
URL:https://piapr.org/event/leadership-innovation-summit/
LOCATION:San Juan Marriott Hotel and Stellaris Casino\, 1309 Ashford Ave.\, San Juan\, PR\, 00907\, Puerto Rico
CATEGORIES:Leadership
ATTACH;FMTTYPE=image/jpeg:https://piapr.org/wp-content/uploads/2025/09/leadership-banner.jpg
ORGANIZER;CN="Pharmaceutical Industry Association of Puerto Rico":MAILTO:registration@piapr.org
END:VEVENT
END:VCALENDAR